BEGIN:VCALENDAR
VERSION:2.0
PRODID:-//LatinaCon//latinacon.com//EN
CALSCALE:GREGORIAN
METHOD:PUBLISH
BEGIN:VEVENT
DTSTART:20260613T120000Z
DTEND:20260613T213000Z
SUMMARY:LatinaCon 2026
DESCRIPTION:Conferencia dedicada a empoderar a latinas fuertes e independientes. https://latinacon.com
LOCATION:Sterling Events Venue by La Noticia\, 4300 Monroe Rd – Unit B\, Charlotte\, NC 28205
URL:https://latinacon.com
STATUS:CONFIRMED
SEQUENCE:0
END:VEVENT
END:VCALENDAR
